BEGIN:VCALENDAR
VERSION:2.0
PRODID:-//KansasAuctions.net v1//EN
BEGIN:VEVENT
DTSTAMP:20260424T195334Z
STATUS:CONFIRMED
UID:a77bec892ca3356a938078ad304f63e5@KansasAuctions.net
DTSTART:20260509T143000Z
DTEND:20260509T153000Z
SUMMARY:Public Auction - Kooser Auction Service
DESCRIPTION:Truck & Boats, Antiques & Household, Mower, Golf Cart, Tools &
  Misc
  https://www.kansasauctions.net/calendar/kooser/70434/
LOCATION:3648 S E Arrowhead Dr Tecumseh, KS
TRANSP:OPAQUE
END:VEVENT
END:VCALENDAR