BEGIN:VCALENDAR
VERSION:2.0
PRODID:-//KansasAuctions.net v1//EN
BEGIN:VEVENT
DTSTAMP:20260424T211350Z
STATUS:CONFIRMED
UID:3e8db74673b48b3d3595c8a6f4b5a080@KansasAuctions.net
DTSTART:20260530T143000Z
DTEND:20260530T153000Z
SUMMARY:Public Auction - Baxa Auctions, LLC
DESCRIPTION:Trucks, Cars, Skid Steer, Equipment, Power Tools, Vehicles,
  Antiques, Collectibles, Sewing Machine
  https://www.kansasauctions.net/calendar/baxa/70433/
LOCATION:218 Delaware St Jewell, KS
TRANSP:OPAQUE
END:VEVENT
END:VCALENDAR