BEGIN:VCALENDAR
VERSION:2.0
PRODID:-//KansasAuctions.net v1//EN
BEGIN:VEVENT
DTSTAMP:20260424T211345Z
STATUS:CONFIRMED
UID:074a0be8c3650ee569a2d79a3d1881bb@KansasAuctions.net
DTSTART:20260502T000500Z
DTEND:20260502T010500Z
SUMMARY:Online Auction - Elite Online Auctions
DESCRIPTION:Moundridge Online Estate Auction: Furniture, Antiques &
  Vintage, Collectables, Home Decor, Collectibles, Lawn & Garden, and Much
  More.
  https://www.kansasauctions.net/calendar/eliteonline/70432/
LOCATION:107 S Ave A Moundridge, KS
TRANSP:OPAQUE
END:VEVENT
END:VCALENDAR