BEGIN:VCALENDAR
VERSION:2.0
PRODID:-//KansasAuctions.net v1//EN
BEGIN:VEVENT
DTSTAMP:20260424T183701Z
STATUS:CONFIRMED
UID:82f30de69867f70081ea1aec079964d3@KansasAuctions.net
DTSTART:20260509T150000Z
DTEND:20260509T160000Z
SUMMARY:Phil & Jane Covert Auction - LG Auction Company
DESCRIPTION:Household, Antiques & Misc Items, Shop & Misc
  https://www.kansasauctions.net/calendar/lg/70430/
LOCATION:201 E Iowa St Hiawatha, KS
TRANSP:OPAQUE
END:VEVENT
END:VCALENDAR