BEGIN:VCALENDAR
VERSION:2.0
PRODID:-//KansasAuctions.net v1//EN
BEGIN:VEVENT
DTSTAMP:20260424T175102Z
STATUS:CONFIRMED
UID:fcdb3cafa575c08d59de52b624d08c9b@KansasAuctions.net
DTSTART:20260501T000000Z
DTEND:20260501T010000Z
SUMMARY:Online Brown Farm Auction - JBR
DESCRIPTION:John Deere 5400 4wd Tractor with 540 loader; John Deere zero
  turn mower; Large John Deere collector train sets, tractors and other
  items; Massive California King bedroom suite; washer and dryer, household
  items; doll collection; stein collection; tools, shop equipment,
  refrigerator and MUCH MORE!!!
  https://www.kansasauctions.net/calendar/jbr/70429/
LOCATION:2105 Thompsonville Rd Perry, KS
TRANSP:OPAQUE
END:VEVENT
END:VCALENDAR