BEGIN:VCALENDAR
VERSION:2.0
PRODID:-//KansasAuctions.net v1//EN
BEGIN:VEVENT
DTSTAMP:20260424T175057Z
STATUS:CONFIRMED
UID:fbd529b72ad8fc8432d7b765521590ec@KansasAuctions.net
DTSTART:20260429T220000Z
DTEND:20260429T230000Z
SUMMARY:Big Auction Event - BB Realty & Auctions
DESCRIPTION:You Don’t Want to Miss This! 🚨 We’re thrilled to
  announce an exciting upcoming auction at the auction house! 🗓 Wednesday,
  April 29
  https://www.kansasauctions.net/calendar/busybeever/70428/
LOCATION:23208 E 24 Hwy Independence, MO
TRANSP:OPAQUE
END:VEVENT
END:VCALENDAR