BEGIN:VCALENDAR
VERSION:2.0
PRODID:-//KansasAuctions.net v1//EN
BEGIN:VEVENT
DTSTAMP:20260424T005427Z
STATUS:CONFIRMED
UID:9b9937543a228bd3d8e0f8f4af091c7a@KansasAuctions.net
DTSTART:20260620T150000Z
DTEND:20260620T160000Z
SUMMARY:Coin Auction - T&A Auction Services
DESCRIPTION:Live Auction and Online Bidding with Proxibid
  https://www.kansasauctions.net/calendar/tanda/70427/
LOCATION:1111 N Lorraine St Hutchinson, KS
TRANSP:OPAQUE
END:VEVENT
END:VCALENDAR