BEGIN:VCALENDAR
VERSION:2.0
PRODID:-//KansasAuctions.net v1//EN
BEGIN:VEVENT
DTSTAMP:20260423T235335Z
STATUS:CONFIRMED
UID:06c369dd6fce98d26a8514a9f3f352d6@KansasAuctions.net
DTSTART:20260507T230000Z
DTEND:20260508T000000Z
SUMMARY:Online Auction - Mayo Auction & Realty
DESCRIPTION:Exclusive Encore: Final Vehicles From The JB Hodgdon Collection
  https://www.kansasauctions.net/calendar/mayo/70426/
LOCATION:16513 Cornerstone Dr Belton, MO
TRANSP:OPAQUE
END:VEVENT
END:VCALENDAR