BEGIN:VCALENDAR
VERSION:2.0
PRODID:-//KansasAuctions.net v1//EN
BEGIN:VEVENT
DTSTAMP:20260423T235011Z
STATUS:CONFIRMED
UID:445bec473037168210cd374eb35abe30@KansasAuctions.net
DTSTART:20260602T160000Z
DTEND:20260602T170000Z
SUMMARY:Real Estate Auction - Gene Francis & Associates
DESCRIPTION:150± Acres, Reno County, KS
  https://www.kansasauctions.net/calendar/genefrancis/70425/
LOCATION:101 W Ave C South Hutchinson, KS
TRANSP:OPAQUE
END:VEVENT
END:VCALENDAR