BEGIN:VCALENDAR
VERSION:2.0
PRODID:-//KansasAuctions.net v1//EN
BEGIN:VEVENT
DTSTAMP:20260423T214225Z
STATUS:CONFIRMED
UID:512ac5ef588488a8c135aca119394cb4@KansasAuctions.net
DTSTART:20260514T000000Z
DTEND:20260514T010000Z
SUMMARY:Online Auction - Wiens Auction/Realty LLC
DESCRIPTION:Al Melichar Farm Equipment - Caldwell, KS
  https://www.kansasauctions.net/calendar/wiens/70424/
LOCATION:929 W 160th St S Caldwell, KS
TRANSP:OPAQUE
END:VEVENT
END:VCALENDAR