BEGIN:VCALENDAR
VERSION:2.0
PRODID:-//KansasAuctions.net v1//EN
BEGIN:VEVENT
DTSTAMP:20260423T213247Z
STATUS:CONFIRMED
UID:145e2272c280913cfcd946c5cadb77fb@KansasAuctions.net
DTSTART:20260507T000000Z
DTEND:20260507T010000Z
SUMMARY:Online Auction - Wiens Auction/Realty LLC
DESCRIPTION:Moving Auction - A Little Bit of Everything
  https://www.kansasauctions.net/calendar/wiens/70423/
LOCATION:319 N Washington Ave Wellington, KS
TRANSP:OPAQUE
END:VEVENT
END:VCALENDAR