BEGIN:VCALENDAR
VERSION:2.0
PRODID:-//KansasAuctions.net v1//EN
BEGIN:VEVENT
DTSTAMP:20260424T130925Z
STATUS:CONFIRMED
UID:88690365463ee7a8ded312cfb91f4438@KansasAuctions.net
DTSTART:20260524T150000Z
DTEND:20260524T160000Z
SUMMARY:Winchester Auction - Thummel Real Estate & Auction LLC
DESCRIPTION:Guns, Winchester Collectables
  https://www.kansasauctions.net/calendar/thummel/70422/
LOCATION:900 Greeley Salina, KS
TRANSP:OPAQUE
END:VEVENT
END:VCALENDAR