BEGIN:VCALENDAR
VERSION:2.0
PRODID:-//KansasAuctions.net v1//EN
BEGIN:VEVENT
DTSTAMP:20260423T213310Z
STATUS:CONFIRMED
UID:91e2d6a31aa048cfcc4bd9d1c8448aa0@KansasAuctions.net
DTSTART:20260527T210000Z
DTEND:20260527T220000Z
SUMMARY:Real Estate Auction - Sundgren Realty
DESCRIPTION:158+- Acres Pasture, Pond, Trees & Water Well – Reno County,
  Kansas
  https://www.kansasauctions.net/calendar/sundgren/70421/
LOCATION:Reno County, KS
TRANSP:OPAQUE
END:VEVENT
END:VCALENDAR