BEGIN:VCALENDAR
VERSION:2.0
PRODID:-//KansasAuctions.net v1//EN
BEGIN:VEVENT
DTSTAMP:20260423T213317Z
STATUS:CONFIRMED
UID:7ff694ee4859095ea1c3e712bd59d00a@KansasAuctions.net
DTSTART:20260519T230000Z
DTEND:20260520T000000Z
SUMMARY:Real Estate Auction - Sundgren Realty
DESCRIPTION:(3) 80+- Acre Tracts South of Augusta – Water Meter, Farm
  Ground, Pasture, Pond, Creek & Trees
  https://www.kansasauctions.net/calendar/sundgren/70420/
LOCATION:618 State St Augusta, KS
TRANSP:OPAQUE
END:VEVENT
END:VCALENDAR