BEGIN:VCALENDAR
VERSION:2.0
PRODID:-//KansasAuctions.net v1//EN
BEGIN:VEVENT
DTSTAMP:20260423T213243Z
STATUS:CONFIRMED
UID:edcccdaba4c9ea113030ed72e329d50a@KansasAuctions.net
DTSTART:20260516T140000Z
DTEND:20260516T150000Z
SUMMARY:Consignment Auction - Morris Yoder Auctions
DESCRIPTION:15th Annual Amish School Consignment Auction
  https://www.kansasauctions.net/calendar/yoder/70419/
LOCATION:62637 710 Trail Pawnee City, NE
TRANSP:OPAQUE
END:VEVENT
END:VCALENDAR