BEGIN:VCALENDAR
VERSION:2.0
PRODID:-//KansasAuctions.net v1//EN
BEGIN:VEVENT
DTSTAMP:20260424T130941Z
STATUS:CONFIRMED
UID:38227a5ef93ae51068ec920dece62800@KansasAuctions.net
DTSTART:20260512T233000Z
DTEND:20260513T003000Z
SUMMARY:Online Auction - Little Bull Auction & Sales Co.
DESCRIPTION:Comic Books Galore
  https://www.kansasauctions.net/calendar/littlebull/70418/
LOCATION:Augusta, KS
TRANSP:OPAQUE
END:VEVENT
END:VCALENDAR