BEGIN:VCALENDAR
VERSION:2.0
PRODID:-//KansasAuctions.net v1//EN
BEGIN:VEVENT
DTSTAMP:20260423T202550Z
STATUS:CONFIRMED
UID:d33607df1ae87b13a94c65aabab708f3@KansasAuctions.net
DTSTART:20260430T233000Z
DTEND:20260501T003000Z
SUMMARY:Online Auction - Little Bull Auction & Sales Co.
DESCRIPTION:Coin Collection Liquidation Silver Proofs, Morgan Dollars, and
  More!
  https://www.kansasauctions.net/calendar/littlebull/70417/
LOCATION:225 E Jewell St Russell, KS
TRANSP:OPAQUE
END:VEVENT
END:VCALENDAR