BEGIN:VCALENDAR
VERSION:2.0
PRODID:-//KansasAuctions.net v1//EN
BEGIN:VEVENT
DTSTAMP:20260423T202514Z
STATUS:CONFIRMED
UID:c482feff05be305b6d75365f79814f8d@KansasAuctions.net
DTSTART:20260507T230000Z
DTEND:20260508T000000Z
SUMMARY:Online Auction - Lindsay Auction Service
DESCRIPTION:Online Auction: NEW TIRES and more!
  https://www.kansasauctions.net/calendar/lindsay/70416/
LOCATION:4795 Frisbie Rd Shawnee, KS
TRANSP:OPAQUE
END:VEVENT
END:VCALENDAR