BEGIN:VCALENDAR
VERSION:2.0
PRODID:-//KansasAuctions.net v1//EN
BEGIN:VEVENT
DTSTAMP:20260423T202606Z
STATUS:CONFIRMED
UID:c1ad82b5732dc21c5a353d7e9180fe12@KansasAuctions.net
DTSTART:20260521T170000Z
DTEND:20260521T180000Z
SUMMARY:Land Auction - Harris Real Estate & Auction, LLC
DESCRIPTION:2 Tracts in Jackson County
  https://www.kansasauctions.net/calendar/harris/70415/
LOCATION:13788 K 16 Holton, KS
TRANSP:OPAQUE
END:VEVENT
END:VCALENDAR