BEGIN:VCALENDAR
VERSION:2.0
PRODID:-//KansasAuctions.net v1//EN
BEGIN:VEVENT
DTSTAMP:20260423T202602Z
STATUS:CONFIRMED
UID:de7f4954345310a312050ed69355b503@KansasAuctions.net
DTSTART:20260509T150000Z
DTEND:20260509T160000Z
SUMMARY:Public Auction - Berning Auction, Inc.
DESCRIPTION:Dolls, Furniture & Appliances, Household Items, Collectable
  Items
  https://www.kansasauctions.net/calendar/berning/70414/
LOCATION:209 Lake Ave Garden City, KS
TRANSP:OPAQUE
END:VEVENT
END:VCALENDAR