BEGIN:VCALENDAR
VERSION:2.0
PRODID:-//KansasAuctions.net v1//EN
BEGIN:VEVENT
DTSTAMP:20260423T202554Z
STATUS:CONFIRMED
UID:3fa5b2d76f64e0695d73c44bbdf78466@KansasAuctions.net
DTSTART:20260518T230000Z
DTEND:20260519T000000Z
SUMMARY:Real Estate Auction - Sudduth Realty
DESCRIPTION:NO RESERVE: Augusta Historic Giant on ¾ Acre – Rare
  Redevelopment Opportunity
  https://www.kansasauctions.net/calendar/sudduth/70413/
LOCATION:619 Santa Fe St Augusta, KS
TRANSP:OPAQUE
END:VEVENT
END:VCALENDAR