BEGIN:VCALENDAR
VERSION:2.0
PRODID:-//KansasAuctions.net v1//EN
BEGIN:VEVENT
DTSTAMP:20260423T221124Z
STATUS:CONFIRMED
UID:d5acce3c4cfaf07474a29b80f7379ec1@KansasAuctions.net
DTSTART:20260509T123000Z
DTEND:20260509T133000Z
SUMMARY:Large Estate Tag Sale - Green Mountain Sales
DESCRIPTION:Appliances & Furniture, Household, Yard & Garden, Meat
  Processing Equipment, Antiques & Collectibles, Portable Building, Models &
  More, Hand & Power Tools, Old Machinery & Junk Iron, Combine, Farm
  Machinery & Equipment, John Deere Tractor
  https://www.kansasauctions.net/calendar/greenmountain/70412/
LOCATION:17654 Coffin Rd Leavenworth, KS
TRANSP:OPAQUE
END:VEVENT
END:VCALENDAR