BEGIN:VCALENDAR
VERSION:2.0
PRODID:-//KansasAuctions.net v1//EN
BEGIN:VEVENT
DTSTAMP:20260423T191251Z
STATUS:CONFIRMED
UID:e5c2ba5397ca7bf7b7a304f1e517e2f2@KansasAuctions.net
DTSTART:20260508T123000Z
DTEND:20260508T133000Z
SUMMARY:Large Estate Tag Sale - Green Mountain Sales
DESCRIPTION:Appliances & Furniture, Household, Yard & Garden, Meat
  Processing Equipment, Antiques & Collectibles, Portable Building, Models &
  More, Hand & Power Tools, Old Machinery & Junk Iron, Combine, Farm
  Machinery & Equipment, John Deere Tractor
  https://www.kansasauctions.net/calendar/greenmountain/70410/
LOCATION:17654 Coffin Rd Leavenworth, KS
TRANSP:OPAQUE
END:VEVENT
END:VCALENDAR