BEGIN:VCALENDAR
VERSION:2.0
PRODID:-//KansasAuctions.net v1//EN
BEGIN:VEVENT
DTSTAMP:20260423T191306Z
STATUS:CONFIRMED
UID:621f124ef88fc33c15cc3d6c4b7dfdf5@KansasAuctions.net
DTSTART:20260507T123000Z
DTEND:20260507T133000Z
SUMMARY:Large Estate Tag Sale - Green Mountain Sales
DESCRIPTION:Appliances & Furniture, Household, Yard & Garden, Meat
  Processing Equipment, Antiques & Collectibles, Portable Building, Models &
  More, Hand & Power Tools, Old Machinery & Junk Iron, Combine, Farm
  Machinery & Equipment, John Deere Tractor
  https://www.kansasauctions.net/calendar/greenmountain/70409/
LOCATION:17654 Coffin Rd Leavenworth, KS
TRANSP:OPAQUE
END:VEVENT
END:VCALENDAR