BEGIN:VCALENDAR
VERSION:2.0
PRODID:-//KansasAuctions.net v1//EN
BEGIN:VEVENT
DTSTAMP:20260423T202509Z
STATUS:CONFIRMED
UID:9bfe0a125bb7b654030faccff6a386ef@KansasAuctions.net
DTSTART:20260425T210000Z
DTEND:20260425T220000Z
SUMMARY:Moving Auction - Olde Mill Auction Center
DESCRIPTION:OMG - Don't' go retail shopping - John Deere riding mowers,
  every yard tool you need, utility trailer, like new washer and dryer and
  range, high quality clean bedroom sets, leather sectional sofas, dinettes,
  double recliner, vintage metal glider, plant stands
  https://www.kansasauctions.net/calendar/oldemill/70408/
LOCATION:713 NE Hwy 24 Topeka, KS
TRANSP:OPAQUE
END:VEVENT
END:VCALENDAR