BEGIN:VCALENDAR
VERSION:2.0
PRODID:-//KansasAuctions.net v1//EN
BEGIN:VEVENT
DTSTAMP:20260423T190147Z
STATUS:CONFIRMED
UID:f76a120e0679d3766552a20e5cd438d5@KansasAuctions.net
DTSTART:20260530T143000Z
DTEND:20260530T153000Z
SUMMARY:Public Auction - Lazy J Auctions
DESCRIPTION:Furniture, Electric Roaster, Food Slider, Heat Gun, Hot Dog
  Maker, Jewelry Chest, License Plates, Microwave, NASCAR Items, Recliner,
  Pampered Chef, Percolator, Push Mower, Quilts, Rocker & Glider, Smoothie
  Maker, Solar Lights, Fountains, Step Stool, Table & Chairs, Vacuum, Washer
  & Dryer, Writing Desk, Barb Wire, Belt Buckles, Bottles, Brass Items,
  Butter Churn, Cabbage Patch Doll, Cameras, Cast Iron Skillets, Clocks,
  Coffee Grinders, Corn Sheller, Dolls
  https://www.kansasauctions.net/calendar/lazyj/70407/
LOCATION:710 Woodside St McPherson, KS
TRANSP:OPAQUE
END:VEVENT
END:VCALENDAR