BEGIN:VCALENDAR
VERSION:2.0
PRODID:-//KansasAuctions.net v1//EN
BEGIN:VEVENT
DTSTAMP:20260423T190236Z
STATUS:CONFIRMED
UID:7fe7a1f38950b012f0542387ef40e6cd@KansasAuctions.net
DTSTART:20260530T150000Z
DTEND:20260530T160000Z
SUMMARY:Urban Estate Auction - Schneider Auction Service
DESCRIPTION:Selling Will Be Tractors, Trucks, Farm Equipment, Antiques, and
  More.
  https://www.kansasauctions.net/calendar/schneider/70406/
LOCATION:Loretto, KS
TRANSP:OPAQUE
END:VEVENT
END:VCALENDAR