BEGIN:VCALENDAR
VERSION:2.0
PRODID:-//KansasAuctions.net v1//EN
BEGIN:VEVENT
DTSTAMP:20260423T190126Z
STATUS:CONFIRMED
UID:6fe2dfaec6769b07bb1006ce687fc2f0@KansasAuctions.net
DTSTART:20260516T150000Z
DTEND:20260516T160000Z
SUMMARY:Ziegler Farm Auction - Schneider Auction Service
DESCRIPTION:Selling Will Be Tractor, Trucks, Farm Equipment, Antiques,
  Horse Equipment and More.
  https://www.kansasauctions.net/calendar/schneider/70405/
LOCATION:14002 N Rd Collyer, KS
TRANSP:OPAQUE
END:VEVENT
END:VCALENDAR