BEGIN:VCALENDAR
VERSION:2.0
PRODID:-//KansasAuctions.net v1//EN
BEGIN:VEVENT
DTSTAMP:20260423T190013Z
STATUS:CONFIRMED
UID:a0af6f4d095d404dd9c0c0a6231e20a3@KansasAuctions.net
DTSTART:20260501T230000Z
DTEND:20260502T000000Z
SUMMARY:First Friday Consignment Auction - Smith Auctions
DESCRIPTION:First Friday Consignment Auction
  https://www.kansasauctions.net/calendar/brandonsmith/70404/
LOCATION:4267 Virginia Rd Wellsville, KS
TRANSP:OPAQUE
END:VEVENT
END:VCALENDAR