BEGIN:VCALENDAR
VERSION:2.0
PRODID:-//KansasAuctions.net v1//EN
BEGIN:VEVENT
DTSTAMP:20260423T190003Z
STATUS:CONFIRMED
UID:859021e63d85e2122d91a1e408dd13c9@KansasAuctions.net
DTSTART:20260514T150000Z
DTEND:20260514T160000Z
SUMMARY:Liquidation Auction - Smith Auctions
DESCRIPTION:Linen and Laundry Liquidation
  https://www.kansasauctions.net/calendar/brandonsmith/70403/
LOCATION:31st and Cherry Kansas City, MO
TRANSP:OPAQUE
END:VEVENT
END:VCALENDAR