BEGIN:VCALENDAR
VERSION:2.0
PRODID:-//KansasAuctions.net v1//EN
BEGIN:VEVENT
DTSTAMP:20260423T190121Z
STATUS:CONFIRMED
UID:5250e8a6c219bb3e16dfbff59ce4ca65@KansasAuctions.net
DTSTART:20260509T150000Z
DTEND:20260509T160000Z
SUMMARY:Estate Auction - Smith Auctions
DESCRIPTION:Estate Auction
  https://www.kansasauctions.net/calendar/brandonsmith/70402/
LOCATION:Garnett, KS
TRANSP:OPAQUE
END:VEVENT
END:VCALENDAR