BEGIN:VCALENDAR
VERSION:2.0
PRODID:-//KansasAuctions.net v1//EN
BEGIN:VEVENT
DTSTAMP:20260423T190059Z
STATUS:CONFIRMED
UID:de99eaa7704e2c68dae7a4efef8319b5@KansasAuctions.net
DTSTART:20260430T230000Z
DTEND:20260501T000000Z
SUMMARY:Another Great Topeka Auction! - Everything Auction Exchange LLC
DESCRIPTION:A great auction coming up, pick up is in Topeka, KS it is a
  collection full of antiques and collectible items. Vintage speakers,
  automotive and tools, fun toys that will take you back to your childhood,
  sewing machines singer, Husqvarna, sporting goods equipment, wood working
  tools, Art and sculptures, bikes and vintage power wheels, old school maps,
  Gas and oil tins and advertisements, too much to list!! Go check it out!
  https://www.kansasauctions.net/calendar/everythingauctionexchange/70401/
LOCATION:Topeka, KS
TRANSP:OPAQUE
END:VEVENT
END:VCALENDAR