BEGIN:VCALENDAR
VERSION:2.0
PRODID:-//KansasAuctions.net v1//EN
BEGIN:VEVENT
DTSTAMP:20260423T190157Z
STATUS:CONFIRMED
UID:92ca461d739f9f42f24c1308aba16574@KansasAuctions.net
DTSTART:20260514T000000Z
DTEND:20260514T010000Z
SUMMARY:Coin & Postcard Auction - Gold River Auction
DESCRIPTION:14K Gold Ring, 1925 D $2.50 Gold coins, MS69 Graded American
  Eagles, American Eagles, LOADS of Kennedy 90% & 40% SILVER half Dollars,
  Franklin Half Dollars, Washington & Standing Liberty SILVER Quarters,
  Barber, Mercury & Roosevelt 90 % SILVER Dimes, UNC Morgans, 1892 CC Morgan
  SILVER Dollar, 1922 no D (visible) Lincoln Cent, 10 Great Large Cent
  1812-1821, SILVER War Nickels, SILVER Rounds,
  https://www.kansasauctions.net/calendar/goldriver/70400/
LOCATION:17519 S Bond Ave Overland Park, KS
TRANSP:OPAQUE
END:VEVENT
END:VCALENDAR