BEGIN:VCALENDAR
VERSION:2.0
PRODID:-//KansasAuctions.net v1//EN
BEGIN:VEVENT
DTSTAMP:20260422T191330Z
STATUS:CONFIRMED
UID:a4c43b9f954512c3946446edcc3de54d@KansasAuctions.net
DTSTART:20260506T140000Z
DTEND:20260506T150000Z
SUMMARY:Restaurant Equipment Auction - Bud Palmer Auction
DESCRIPTION:Restaurant Equipment & More
  https://www.kansasauctions.net/calendar/palmer/70398/
LOCATION:101 W 29th St N Wichita, KS
TRANSP:OPAQUE
END:VEVENT
END:VCALENDAR