BEGIN:VCALENDAR
VERSION:2.0
PRODID:-//KansasAuctions.net v1//EN
BEGIN:VEVENT
DTSTAMP:20260422T180430Z
STATUS:CONFIRMED
UID:5a43293093881498743c80b506b50d08@KansasAuctions.net
DTSTART:20260509T150000Z
DTEND:20260509T160000Z
SUMMARY:Public Auction - Hamilton Auctions
DESCRIPTION:Pickups, Car, Skid Loader, Tractor, Tools, Golf Cart, Lawn
  Tractor, Household & Related
  https://www.kansasauctions.net/calendar/hamilton/70396/
LOCATION:2191 Idaho Rd Williamsburg, KS
TRANSP:OPAQUE
END:VEVENT
END:VCALENDAR