BEGIN:VCALENDAR
VERSION:2.0
PRODID:-//KansasAuctions.net v1//EN
BEGIN:VEVENT
DTSTAMP:20260422T005123Z
STATUS:CONFIRMED
UID:68ecaee33d89028ba58560c1a28d6cfa@KansasAuctions.net
DTSTART:20260604T130000Z
DTEND:20260604T140000Z
SUMMARY:Real Estate Auction - Ken Patterson, Auctioneer
DESCRIPTION:Discover the perfect blend of recreation, agriculture, and
  future potential with this beautiful 29+/- acre tract located just 7 miles
  east of Winfield and only 12 miles south of the popular Winfield City Lake
  area.
  https://www.kansasauctions.net/calendar/kenpatterson/70395/
LOCATION:Winfield, KS
TRANSP:OPAQUE
END:VEVENT
END:VCALENDAR