BEGIN:VCALENDAR
VERSION:2.0
PRODID:-//KansasAuctions.net v1//EN
BEGIN:VEVENT
DTSTAMP:20260421T194920Z
STATUS:CONFIRMED
UID:82d27a54d522099b6dffba5769294f4b@KansasAuctions.net
DTSTART:20260422T192000Z
DTEND:20260422T202000Z
SUMMARY:Equip-Bid Auction - Equip-Bid
DESCRIPTION:Agent 86 Wednesday Auction - Honeywell Portable Evaporative
  Coolers, HP Chromebook, Home & Kitchen Goods, Beauty Supplies, Toys, Office
  Products, Apparel, Home Improvement, Lawn and Garden, Medical Equipment,
  and More! - Thursday Pickup
  https://www.kansasauctions.net/calendar/equipbid/70394/
LOCATION:1360 N Mosley Wichita, KS
TRANSP:OPAQUE
END:VEVENT
END:VCALENDAR