BEGIN:VCALENDAR
VERSION:2.0
PRODID:-//KansasAuctions.net v1//EN
BEGIN:VEVENT
DTSTAMP:20260421T200013Z
STATUS:CONFIRMED
UID:96b5a3a94521451b95935562ad9e836c@KansasAuctions.net
DTSTART:20260422T001500Z
DTEND:20260422T011500Z
SUMMARY:Equip-Bid Auction - Equip-Bid
DESCRIPTION:Merriam, KS ~ ENDLESS NOSTALGICS Presents COLLECTIBLES ~
  Vintage & ANTIQUES ~ DIECAST ~ NASCAR ~ Dolls ~ EPHEMERA ~ Coca-Cola ~
  VINYL ~ HOME DECOR ~ Art ~ KC CHIEFS ~ TOYS & SO MUCH MORE ~ $2 STARTS ~ NO
  Handling Fees
  https://www.kansasauctions.net/calendar/equipbid/70393/
LOCATION:4835 Merriam Dr Shawnee, KS
TRANSP:OPAQUE
END:VEVENT
END:VCALENDAR