BEGIN:VCALENDAR
VERSION:2.0
PRODID:-//KansasAuctions.net v1//EN
BEGIN:VEVENT
DTSTAMP:20260421T195921Z
STATUS:CONFIRMED
UID:b2f0e245e71aad2d901351fe81bcca14@KansasAuctions.net
DTSTART:20260426T220000Z
DTEND:20260426T230000Z
SUMMARY:Equip-Bid Auction - Equip-Bid
DESCRIPTION:Nashville's APRIL Farm & Equipment Auction
  https://www.kansasauctions.net/calendar/equipbid/70392/
LOCATION:123 Enon Springs Rd W Smyrna Tn
TRANSP:OPAQUE
END:VEVENT
END:VCALENDAR