BEGIN:VCALENDAR
VERSION:2.0
PRODID:-//KansasAuctions.net v1//EN
BEGIN:VEVENT
DTSTAMP:20260421T200104Z
STATUS:CONFIRMED
UID:2d31ab42dba01f442b53195dea4fdb14@KansasAuctions.net
DTSTART:20260421T150000Z
DTEND:20260421T160000Z
SUMMARY:Equip-Bid Auction - Equip-Bid
DESCRIPTION:4/21 Brunch On These BIG DEALs! 10a Close & Same Day Pick Up!
  https://www.kansasauctions.net/calendar/equipbid/70391/
LOCATION:1024 NE Jib Ct Suite D Lee's Summit, MO
TRANSP:OPAQUE
END:VEVENT
END:VCALENDAR