BEGIN:VCALENDAR
VERSION:2.0
PRODID:-//KansasAuctions.net v1//EN
BEGIN:VEVENT
DTSTAMP:20260421T200142Z
STATUS:CONFIRMED
UID:e000155389b11f463973fde16c7dc903@KansasAuctions.net
DTSTART:20260426T000000Z
DTEND:20260426T010000Z
SUMMARY:Equip-Bid Auction - Equip-Bid
DESCRIPTION:$$$ PK3S-R Metering, Mixing, and Dispensing System Retail
  $80,000.00 NO RESERVE $$$
  https://www.kansasauctions.net/calendar/equipbid/70390/
LOCATION:818 W 53rd St N Wichita, KS
TRANSP:OPAQUE
END:VEVENT
END:VCALENDAR