BEGIN:VCALENDAR
VERSION:2.0
PRODID:-//KansasAuctions.net v1//EN
BEGIN:VEVENT
DTSTAMP:20260421T200109Z
STATUS:CONFIRMED
UID:a8c5859d4e5c1872b432ad55e8018f98@KansasAuctions.net
DTSTART:20260423T183000Z
DTEND:20260423T193000Z
SUMMARY:Equip-Bid Auction - Equip-Bid
DESCRIPTION:Busy Mo's Thursday Afternoon
  https://www.kansasauctions.net/calendar/equipbid/70389/
LOCATION:1926 Linn St N Kansas City, MO
TRANSP:OPAQUE
END:VEVENT
END:VCALENDAR