BEGIN:VCALENDAR
VERSION:2.0
PRODID:-//KansasAuctions.net v1//EN
BEGIN:VEVENT
DTSTAMP:20260421T211506Z
STATUS:CONFIRMED
UID:fde277d2df13bd1b60db09e59f7a1cb4@KansasAuctions.net
DTSTART:20260427T001000Z
DTEND:20260427T011000Z
SUMMARY:Equip-Bid Auction - Equip-Bid
DESCRIPTION:✨ Electric Spin Brush ~ Magnetic Building Blocks ~ Runner Rug
  ~ Portable Mini Air Cooler ~ Outdoor Roller Shade, And So Much More ✨
  https://www.kansasauctions.net/calendar/equipbid/70388/
LOCATION:701 6th St Osawatomie, KS
TRANSP:OPAQUE
END:VEVENT
END:VCALENDAR