BEGIN:VCALENDAR
VERSION:2.0
PRODID:-//KansasAuctions.net v1//EN
BEGIN:VEVENT
DTSTAMP:20260421T195352Z
STATUS:CONFIRMED
UID:aff186c1883545d430c92719254cc650@KansasAuctions.net
DTSTART:20260424T231500Z
DTEND:20260425T001500Z
SUMMARY:Equip-Bid Auction - Equip-Bid
DESCRIPTION:Sunflower Bid House This Started as Storage and Got Out of
  Control. Tools Furniture Home Goods Scooters Bike Shelving and Mystery
  Finds.  From Garage Upgrades to What Is This Even Items.  Dive In and See
  What You Walk Away With.
  https://www.kansasauctions.net/calendar/equipbid/70387/
LOCATION:8337 Nieman Rd Overland Park, KS
TRANSP:OPAQUE
END:VEVENT
END:VCALENDAR