BEGIN:VCALENDAR
VERSION:2.0
PRODID:-//KansasAuctions.net v1//EN
BEGIN:VEVENT
DTSTAMP:20260421T200017Z
STATUS:CONFIRMED
UID:d0ea70db0afe994a06f085f4c6567c02@KansasAuctions.net
DTSTART:20260427T000000Z
DTEND:20260427T010000Z
SUMMARY:Equip-Bid Auction - Equip-Bid
DESCRIPTION:Food Production Facility~~ Walk-in Freezer, Pallet Racking,
  Dough Divider Machine, Mini Split, and so much More!!!!~~
  https://www.kansasauctions.net/calendar/equipbid/70386/
LOCATION:1622 Jasper St Kansas City, MO
TRANSP:OPAQUE
END:VEVENT
END:VCALENDAR