BEGIN:VCALENDAR
VERSION:2.0
PRODID:-//KansasAuctions.net v1//EN
BEGIN:VEVENT
DTSTAMP:20260421T211337Z
STATUS:CONFIRMED
UID:b7a81602dae51e0331e718f6298a4ec0@KansasAuctions.net
DTSTART:20260504T220000Z
DTEND:20260504T230000Z
SUMMARY:Estate & Premium Workshop Auction - Generations Real Estate &
  Auction
DESCRIPTION:Oak Furniture, Mirrors, Lighting, Clocks, Framed Art, Books,
  Beds, Linens & Bedding, Luggage, Oil Lamps, MCM, Superglide Stair Lift,
  Brass, Glassware, Crystal, Ceramic, Porcelain, Cast Iron, Pottery, Fenton,
  Corningware, FireKing, Bakeware, Small Appliances, Holiday Decor, Ty Beanie
  Babies, Washer & Dryer, Upright Freezer, Vortex Bicycle, Lawn & Garden,
  Patio, Grill, High-end Premium Tools, Laser Engraver, Shop Equipment, Hand
  & Power Tools, Grizzly, Bosch, Craftsman, Wide Variety Clamps, Table Saw,
  Sanders and much, MUCH more!
  https://www.kansasauctions.net/calendar/genkc/70385/
LOCATION:306 Gail Dr Salina, KS
TRANSP:OPAQUE
END:VEVENT
END:VCALENDAR