BEGIN:VCALENDAR
VERSION:2.0
PRODID:-//KansasAuctions.net v1//EN
BEGIN:VEVENT
DTSTAMP:20260421T194526Z
STATUS:CONFIRMED
UID:74a58a0150d13cad5201fb65a93a2c4d@KansasAuctions.net
DTSTART:20260512T230000Z
DTEND:20260513T000000Z
SUMMARY:Online Auction - Wedel Auction
DESCRIPTION:Antique Autos, Quality Machinist Tools, Small Farm & Garden
  Equipment, Loads of Iron. Take a look, there is something for everyone.
  https://www.kansasauctions.net/calendar/wedel/70384/
LOCATION:McPherson, KS
TRANSP:OPAQUE
END:VEVENT
END:VCALENDAR