BEGIN:VCALENDAR
VERSION:2.0
PRODID:-//KansasAuctions.net v1//EN
BEGIN:VEVENT
DTSTAMP:20260421T200116Z
STATUS:CONFIRMED
UID:ddbba6b54528ffd060c1ac7f84f0e717@KansasAuctions.net
DTSTART:20260428T000000Z
DTEND:20260428T010000Z
SUMMARY:Online Auction - Everything Auction Exchange LLC
DESCRIPTION:This is a great auction, has a little bit of everything, old
  automobile emblems Chrysler, Buick, Oldsmobile, GMC and more, vintage
  games, Hallmark Christmas ornaments and other vintage Christmas lots,
  advertising, vintage cross stitch, medicine, bottles, and electronics, a
  little art and Chuck E Cheese! You don't want to miss this!
  https://www.kansasauctions.net/calendar/everythingauctionexchange/70383/
LOCATION:Olathe, KS
TRANSP:OPAQUE
END:VEVENT
END:VCALENDAR