BEGIN:VCALENDAR
VERSION:2.0
PRODID:-//KansasAuctions.net v1//EN
BEGIN:VEVENT
DTSTAMP:20260421T185127Z
STATUS:CONFIRMED
UID:9c2b39745b6c5b1d7baa415307178a14@KansasAuctions.net
DTSTART:20260509T150000Z
DTEND:20260509T160000Z
SUMMARY:Estate Auction - Starling Auction Service
DESCRIPTION:Estate Auction of Mike and Bonnie Smith
  https://www.kansasauctions.net/calendar/starling/70382/
LOCATION:124 N Locust Ottawa, KS
TRANSP:OPAQUE
END:VEVENT
END:VCALENDAR