BEGIN:VCALENDAR
VERSION:2.0
PRODID:-//KansasAuctions.net v1//EN
BEGIN:VEVENT
DTSTAMP:20260421T185255Z
STATUS:CONFIRMED
UID:ef5227e0eb93deb9fd2824ac041af329@KansasAuctions.net
DTSTART:20260507T170000Z
DTEND:20260507T180000Z
SUMMARY:Farm Equipment & High End Furnishings Auction - McCurdy Auction,
  LLC
DESCRIPTION:Don't miss this outstanding online-only auction featuring a
  unique blend of quality farm equipment and premium household furnishings.
  This auction offers something for everyone - from those looking to upgrade
  their homes with upscale pieces, to farmers and ranchers in need of
  dependable and clean equipment.
  https://www.kansasauctions.net/calendar/mccurdy/70381/
LOCATION:13499 SW 40th St Benton, KS
TRANSP:OPAQUE
END:VEVENT
END:VCALENDAR